BEGIN:VCALENDAR
VERSION:2.0
PRODID:-//eventon.com NONSGML v1.0//EN
CALSCALE:GREGORIAN
METHOD:PUBLISH
BEGIN:VEVENT
UID:69e5ee3b1b4d4
DTSTAMP:20260420T091331Z
DTSTART:20241108T170000Z
DTEND:20241108T183000Z
LOCATION:Lurgrotte Peggau Lurgrottenstraße 1\,  8120 Peggau
SUMMARY:Cave Gong
DESCRIPTION:Ein Cave Gong dauert 90 Minuten und findet in einer Höhle oder
  Grotte statt. Du benötigst einen Schlafsack und eine Isomatte.\nhttps://l
 ocalyoga.at/events/cave-gong-november/
URL:https://localyoga.at/events/cave-gong-november/
END:VEVENT
END:VCALENDAR