BEGIN:VCALENDAR
VERSION:2.0
PRODID:-//eventon.com NONSGML v1.0//EN
CALSCALE:GREGORIAN
METHOD:PUBLISH
BEGIN:VEVENT
UID:69e5effa24d86
DTSTAMP:20260420T092058Z
DTSTART:20240927T160000Z
DTEND:20240927T173000Z
LOCATION:Lurgrotte Peggau Lurgrottenstraße 1\,  8120 Peggau
SUMMARY:Cave Gong
DESCRIPTION:Ein Cave Gong dauert 90 Minuten und findet in einer Höhle oder
  Grotte statt. Du benötigst einen Schlafsack und eine Isomatte. Buche hier
  Deinen Platz.\nhttps://localyoga.at/events/cave-gong-2/
URL:https://localyoga.at/events/cave-gong-2/
END:VEVENT
END:VCALENDAR